BEGIN:VCALENDAR
VERSION:2.0
PRODID:-//MoreDirt v1.0//EN
BEGIN:VEVENT
DTSTAMP:20150730T130000Z
ORGANIZER;CN=B1KE:MAILTO:
STATUS:CONFIRMED
UID:MORESPORTSNETWORK3766
DTSTART:20191020T080000Z
DTEND:20191020T120000Z
SUMMARY:The Annual Rogate DH Race 2019
DESCRIPTION:The Annual Rogate DH Race 2019 - more details: https://www.moredirt.com/event/3766
X-ALT-DESC;FMTTYPE=text/html:The Annual Rogate DH Race 2019 - more details: https://www.moredirt.com/event/3766
LOCATION:
END:VEVENT
END:VCALENDAR