BEGIN:VCALENDAR
VERSION:2.0
PRODID:-//MoreDirt v1.0//EN
BEGIN:VEVENT
DTSTAMP:20150730T130000Z
ORGANIZER;CN=Glencullen Adventure Park:MAILTO:
STATUS:CONFIRMED
UID:MORESPORTSNETWORK3763
DTSTART:20191027T080000+0000
DTEND:20191027T120000+0000
SUMMARY:The GAP Downhill Series - RD4
DESCRIPTION:The GAP Downhill Series - RD4 - more details: https://www.moredirt.com/event/3763
X-ALT-DESC;FMTTYPE=text/html:The GAP Downhill Series - RD4 - more details: https://www.moredirt.com/event/3763
LOCATION:
END:VEVENT
END:VCALENDAR