BEGIN:VCALENDAR
VERSION:2.0
PRODID:-//MoreDirt v1.0//EN
BEGIN:VEVENT
DTSTAMP:20150730T130000Z
ORGANIZER;CN=Glencullen Adventure Park:MAILTO:
STATUS:CONFIRMED
UID:MORESPORTSNETWORK3762
DTSTART:20191020T080000Z
DTEND:20191020T120000Z
SUMMARY:The GAP Downhill Series - RD3
DESCRIPTION:The GAP Downhill Series - RD3 - more details: https://www.moredirt.com/event/3762
X-ALT-DESC;FMTTYPE=text/html:The GAP Downhill Series - RD3 - more details: https://www.moredirt.com/event/3762
LOCATION:
END:VEVENT
END:VCALENDAR