BEGIN:VCALENDAR
VERSION:2.0
PRODID:-//MoreDirt v1.0//EN
BEGIN:VEVENT
DTSTAMP:20150730T130000Z
ORGANIZER;CN=Glencullen Adventure Park:MAILTO:
STATUS:CONFIRMED
UID:MORESPORTSNETWORK3761
DTSTART:20191013T080000Z
DTEND:20191013T120000Z
SUMMARY:The GAP Downhill Series - RD2
DESCRIPTION:The GAP Downhill Series - RD2 - more details: https://www.moredirt.com/event/3761
X-ALT-DESC;FMTTYPE=text/html:The GAP Downhill Series - RD2 - more details: https://www.moredirt.com/event/3761
LOCATION:
END:VEVENT
END:VCALENDAR