BEGIN:VCALENDAR
VERSION:2.0
PRODID:-//MoreDirt v1.0//EN
BEGIN:VEVENT
DTSTAMP:20150730T130000Z
ORGANIZER;CN=St Paul's Sowerby Bridge Scout Group:MAILTO:
STATUS:CONFIRMED
UID:MORESPORTSNETWORK3754
DTSTART:20191013T080000Z
DTEND:20191013T120000Z
SUMMARY:Calderdale Mountain Bike Marathon
DESCRIPTION:Calderdale Mountain Bike Marathon - more details: https://www.moredirt.com/event/3754
X-ALT-DESC;FMTTYPE=text/html:Calderdale Mountain Bike Marathon - more details: https://www.moredirt.com/event/3754
LOCATION:
END:VEVENT
END:VCALENDAR