BEGIN:VCALENDAR
VERSION:2.0
PRODID:-//MoreDirt v1.0//EN
BEGIN:VEVENT
DTSTAMP:20150730T130000Z
ORGANIZER;CN=Dunoon's Outdoor Festival:MAILTO:
STATUS:CONFIRMED
UID:MORESPORTSNETWORK3752
DTSTART:20190928T080000Z
DTEND:20190928T120000Z
SUMMARY:The Dunoon Urban XC Season Ender
DESCRIPTION:The Dunoon Urban XC Season Ender - more details: https://www.moredirt.com/event/3752
X-ALT-DESC;FMTTYPE=text/html:The Dunoon Urban XC Season Ender - more details: https://www.moredirt.com/event/3752
LOCATION:
END:VEVENT
END:VCALENDAR