BEGIN:VCALENDAR
VERSION:2.0
PRODID:-//MoreDirt v1.0//EN
BEGIN:VEVENT
DTSTAMP:20150730T130000Z
ORGANIZER;CN=Dunoon's Outdoor Festival:MAILTO:
STATUS:CONFIRMED
UID:MORESPORTSNETWORK3751
DTSTART:20190928T080000Z
DTEND:20190928T120000Z
SUMMARY:The Dunoon Mini Enduro
DESCRIPTION:The Dunoon Mini Enduro - more details: https://www.moredirt.com/event/3751
X-ALT-DESC;FMTTYPE=text/html:The Dunoon Mini Enduro - more details: https://www.moredirt.com/event/3751
LOCATION:
END:VEVENT
END:VCALENDAR