BEGIN:VCALENDAR
VERSION:2.0
PRODID:-//MoreDirt v1.0//EN
BEGIN:VEVENT
DTSTAMP:20150730T130000Z
ORGANIZER;CN=Quench Cycles:MAILTO:
STATUS:CONFIRMED
UID:MORESPORTSNETWORK3750
DTSTART:20191012T080000Z
DTEND:20191012T120000Z
SUMMARY:Whyte Demo Day - Quench Cycles
DESCRIPTION:Whyte Demo Day - Quench Cycles - more details: https://www.moredirt.com/event/3750
X-ALT-DESC;FMTTYPE=text/html:Whyte Demo Day - Quench Cycles - more details: https://www.moredirt.com/event/3750
LOCATION:
END:VEVENT
END:VCALENDAR