BEGIN:VCALENDAR
VERSION:2.0
PRODID:-//MoreDirt v1.0//EN
BEGIN:VEVENT
DTSTAMP:20150730T130000Z
ORGANIZER;CN=Stephen Parr:MAILTO:
STATUS:CONFIRMED
UID:MORESPORTSNETWORK374
DTSTART:20120324T080000+0000
DTEND:20120325T120000Z
SUMMARY:Fetish Gravity Enduro RD 1
DESCRIPTION:Fetish Gravity Enduro RD 1 - more details: https://www.moredirt.com/event/374
X-ALT-DESC;FMTTYPE=text/html:Fetish Gravity Enduro RD 1 - more details: https://www.moredirt.com/event/374
LOCATION:
END:VEVENT
END:VCALENDAR