BEGIN:VCALENDAR
VERSION:2.0
PRODID:-//MoreDirt v1.0//EN
BEGIN:VEVENT
DTSTAMP:20150730T130000Z
ORGANIZER;CN=Van Road Trails Club:MAILTO:
STATUS:CONFIRMED
UID:MORESPORTSNETWORK3748
DTSTART:20191006T080000Z
DTEND:20191006T120000Z
SUMMARY:Trailcraft Van Road Dual Slalom 2019
DESCRIPTION:Trailcraft Van Road Dual Slalom 2019 - more details: https://www.moredirt.com/event/3748
X-ALT-DESC;FMTTYPE=text/html:Trailcraft Van Road Dual Slalom 2019 - more details: https://www.moredirt.com/event/3748
LOCATION:
END:VEVENT
END:VCALENDAR