BEGIN:VCALENDAR
VERSION:2.0
PRODID:-//MoreDirt v1.0//EN
BEGIN:VEVENT
DTSTAMP:20150730T130000Z
ORGANIZER;CN=Biketreks:MAILTO:
STATUS:CONFIRMED
UID:MORESPORTSNETWORK3745
DTSTART:20190824T080000Z
DTEND:20190824T120000Z
SUMMARY:Hope HB.130 demo - Biketreks
DESCRIPTION:Hope HB.130 demo - Biketreks - more details: https://www.moredirt.com/event/3745
X-ALT-DESC;FMTTYPE=text/html:Hope HB.130 demo - Biketreks - more details: https://www.moredirt.com/event/3745
LOCATION:
END:VEVENT
END:VCALENDAR