BEGIN:VCALENDAR
VERSION:2.0
PRODID:-//MoreDirt v1.0//EN
BEGIN:VEVENT
DTSTAMP:20150730T130000Z
ORGANIZER;CN=CX Sportive:MAILTO:
STATUS:CONFIRMED
UID:MORESPORTSNETWORK3744
DTSTART:20191020T080000Z
DTEND:20191020T120000Z
SUMMARY:Battle Gravel Autumn 100
DESCRIPTION:Battle Gravel Autumn 100 - more details: https://www.moredirt.com/event/3744
X-ALT-DESC;FMTTYPE=text/html:Battle Gravel Autumn 100 - more details: https://www.moredirt.com/event/3744
LOCATION:
END:VEVENT
END:VCALENDAR