BEGIN:VCALENDAR
VERSION:2.0
PRODID:-//MoreDirt v1.0//EN
BEGIN:VEVENT
DTSTAMP:20150730T130000Z
ORGANIZER;CN=Canyon:MAILTO:
STATUS:CONFIRMED
UID:MORESPORTSNETWORK3737
DTSTART:20190816T080000Z
DTEND:20190816T120000Z
SUMMARY:Canyon Shred City: Revolution
DESCRIPTION:Canyon Shred City: Revolution - more details: https://www.moredirt.com/event/3737
X-ALT-DESC;FMTTYPE=text/html:Canyon Shred City: Revolution - more details: https://www.moredirt.com/event/3737
LOCATION:
END:VEVENT
END:VCALENDAR