BEGIN:VCALENDAR
VERSION:2.0
PRODID:-//MoreDirt v1.0//EN
BEGIN:VEVENT
DTSTAMP:20150730T130000Z
ORGANIZER;CN=Andrew Parker:MAILTO:
STATUS:CONFIRMED
UID:MORESPORTSNETWORK3734
DTSTART:20190808T080000Z
DTEND:20190808T120000Z
SUMMARY:Haldon Forest - A lap of the Blue 2
DESCRIPTION:Haldon Forest - A lap of the Blue 2 - more details: https://www.moredirt.com/event/3734
X-ALT-DESC;FMTTYPE=text/html:Haldon Forest - A lap of the Blue 2 - more details: https://www.moredirt.com/event/3734
LOCATION:
END:VEVENT
END:VCALENDAR