BEGIN:VCALENDAR
VERSION:2.0
PRODID:-//MoreDirt v1.0//EN
BEGIN:VEVENT
DTSTAMP:20150730T130000Z
ORGANIZER;CN=Pacific Edge Events Ltd:MAILTO:
STATUS:CONFIRMED
UID:MORESPORTSNETWORK3731
DTSTART:20200619T080000Z
DTEND:20200621T120000Z
SUMMARY:Mountain Mayhem 2020
DESCRIPTION:Mountain Mayhem 2020 - more details: https://www.moredirt.com/event/3731
X-ALT-DESC;FMTTYPE=text/html:Mountain Mayhem 2020 - more details: https://www.moredirt.com/event/3731
LOCATION:
END:VEVENT
END:VCALENDAR