BEGIN:VCALENDAR
VERSION:2.0
PRODID:-//MoreDirt v1.0//EN
BEGIN:VEVENT
DTSTAMP:20150730T130000Z
ORGANIZER;CN=Amanda Tanfield:MAILTO:
STATUS:CONFIRMED
UID:MORESPORTSNETWORK3722
DTSTART:20190810T080000Z
DTEND:20190810T120000Z
SUMMARY:Ladies DO DH Mini
DESCRIPTION:Ladies DO DH Mini - more details: https://www.moredirt.com/event/3722
X-ALT-DESC;FMTTYPE=text/html:Ladies DO DH Mini - more details: https://www.moredirt.com/event/3722
LOCATION:
END:VEVENT
END:VCALENDAR