BEGIN:VCALENDAR
VERSION:2.0
PRODID:-//MoreDirt v1.0//EN
BEGIN:VEVENT
DTSTAMP:20150730T130000Z
ORGANIZER;CN=Havok Bike Park:MAILTO:
STATUS:CONFIRMED
UID:MORESPORTSNETWORK3718
DTSTART:20190730T080000Z
DTEND:20190730T120000Z
SUMMARY:Evil Bikes Demo Evening
DESCRIPTION:Evil Bikes Demo Evening - more details: https://www.moredirt.com/event/3718
X-ALT-DESC;FMTTYPE=text/html:Evil Bikes Demo Evening - more details: https://www.moredirt.com/event/3718
LOCATION:
END:VEVENT
END:VCALENDAR