BEGIN:VCALENDAR
VERSION:2.0
PRODID:-//MoreDirt v1.0//EN
BEGIN:VEVENT
DTSTAMP:20150730T130000Z
ORGANIZER;CN=Mid Devon CC:MAILTO:
STATUS:CONFIRMED
UID:MORESPORTSNETWORK3716
DTSTART:20190816T080000Z
DTEND:20190816T120000Z
SUMMARY:Ashcombe MTB Summer Series Round 2
DESCRIPTION:Ashcombe MTB Summer Series Round 2 - more details: https://www.moredirt.com/event/3716
X-ALT-DESC;FMTTYPE=text/html:Ashcombe MTB Summer Series Round 2 - more details: https://www.moredirt.com/event/3716
LOCATION:
END:VEVENT
END:VCALENDAR