BEGIN:VCALENDAR
VERSION:2.0
PRODID:-//MoreDirt v1.0//EN
BEGIN:VEVENT
DTSTAMP:20150730T130000Z
ORGANIZER;CN=Joseph Sinclair:MAILTO:
STATUS:CONFIRMED
UID:MORESPORTSNETWORK3707
DTSTART:20191013T080000Z
DTEND:20191013T120000Z
SUMMARY:New Forest XC
DESCRIPTION:New Forest XC - more details: https://www.moredirt.com/event/3707
X-ALT-DESC;FMTTYPE=text/html:New Forest XC - more details: https://www.moredirt.com/event/3707
LOCATION:
END:VEVENT
END:VCALENDAR