BEGIN:VCALENDAR
VERSION:2.0
PRODID:-//MoreDirt v1.0//EN
BEGIN:VEVENT
DTSTAMP:20150730T130000Z
ORGANIZER;CN=Julian Wright:MAILTO:
STATUS:CONFIRMED
UID:MORESPORTSNETWORK3706
DTSTART:20191006T080000Z
DTEND:20191006T120000Z
SUMMARY:The Red Rat Rampage
DESCRIPTION:The Red Rat Rampage - more details: https://www.moredirt.com/event/3706
X-ALT-DESC;FMTTYPE=text/html:The Red Rat Rampage - more details: https://www.moredirt.com/event/3706
LOCATION:
END:VEVENT
END:VCALENDAR