BEGIN:VCALENDAR
VERSION:2.0
PRODID:-//MoreDirt v1.0//EN
BEGIN:VEVENT
DTSTAMP:20150730T130000Z
ORGANIZER;CN=Zerobikes:MAILTO:
STATUS:CONFIRMED
UID:MORESPORTSNETWORK3705
DTSTART:20190727T080000Z
DTEND:20190728T120000Z
SUMMARY:Zerobikes Demo Weekend 2019
DESCRIPTION:Zerobikes Demo Weekend 2019 - more details: https://www.moredirt.com/event/3705
X-ALT-DESC;FMTTYPE=text/html:Zerobikes Demo Weekend 2019 - more details: https://www.moredirt.com/event/3705
LOCATION:
END:VEVENT
END:VCALENDAR