BEGIN:VCALENDAR
VERSION:2.0
PRODID:-//MoreDirt v1.0//EN
BEGIN:VEVENT
DTSTAMP:20150730T130000Z
ORGANIZER;CN=Rutland Cycling:MAILTO:
STATUS:CONFIRMED
UID:MORESPORTSNETWORK3704
DTSTART:20190712T080000Z
DTEND:20190712T120000Z
SUMMARY:Electric Bike Open Evening
DESCRIPTION:Electric Bike Open Evening - more details: https://www.moredirt.com/event/3704
X-ALT-DESC;FMTTYPE=text/html:Electric Bike Open Evening - more details: https://www.moredirt.com/event/3704
LOCATION:
END:VEVENT
END:VCALENDAR