BEGIN:VCALENDAR
VERSION:2.0
PRODID:-//MoreDirt v1.0//EN
BEGIN:VEVENT
DTSTAMP:20150730T130000Z
ORGANIZER;CN=Maddie Horton:MAILTO:
STATUS:CONFIRMED
UID:MORESPORTSNETWORK36
DTSTART:20110903T080000Z
DTEND:20110903T120000Z
SUMMARY:Circus Of Dirt Summer Series RD5 inc. SW Championships
DESCRIPTION:Circus Of Dirt Summer Series RD5 inc. SW Championships - more details: https://www.moredirt.com/event/36
X-ALT-DESC;FMTTYPE=text/html:Circus Of Dirt Summer Series RD5 inc. SW Championships - more details: https://www.moredirt.com/event/36
LOCATION:
END:VEVENT
END:VCALENDAR