BEGIN:VCALENDAR
VERSION:2.0
PRODID:-//MoreDirt v1.0//EN
BEGIN:VEVENT
DTSTAMP:20150730T130000Z
ORGANIZER;CN=Wild Timez Crew:MAILTO:
STATUS:CONFIRMED
UID:MORESPORTSNETWORK3693
DTSTART:20190919T080000Z
DTEND:20190919T120000Z
SUMMARY:Wild Timez Crew Group Ride
DESCRIPTION:Wild Timez Crew Group Ride - more details: https://www.moredirt.com/event/3693
X-ALT-DESC;FMTTYPE=text/html:Wild Timez Crew Group Ride - more details: https://www.moredirt.com/event/3693
LOCATION:
END:VEVENT
END:VCALENDAR