BEGIN:VCALENDAR
VERSION:2.0
PRODID:-//MoreDirt v1.0//EN
BEGIN:VEVENT
DTSTAMP:20150730T130000Z
ORGANIZER;CN=Nirvana Cycles:MAILTO:
STATUS:CONFIRMED
UID:MORESPORTSNETWORK3670
DTSTART:20190725T080000Z
DTEND:20190725T120000Z
SUMMARY:Evil Demo Ride
DESCRIPTION:Evil Demo Ride - more details: https://www.moredirt.com/event/3670
X-ALT-DESC;FMTTYPE=text/html:Evil Demo Ride - more details: https://www.moredirt.com/event/3670
LOCATION:
END:VEVENT
END:VCALENDAR