BEGIN:VCALENDAR
VERSION:2.0
PRODID:-//MoreDirt v1.0//EN
BEGIN:VEVENT
DTSTAMP:20150730T130000Z
ORGANIZER;CN=Shronaboy Farm:MAILTO:
STATUS:CONFIRMED
UID:MORESPORTSNETWORK3668
DTSTART:20190714T080000Z
DTEND:20190714T120000Z
SUMMARY:Munster Gravity Champs 19
DESCRIPTION:Munster Gravity Champs 19 - more details: https://www.moredirt.com/event/3668
X-ALT-DESC;FMTTYPE=text/html:Munster Gravity Champs 19 - more details: https://www.moredirt.com/event/3668
LOCATION:
END:VEVENT
END:VCALENDAR