BEGIN:VCALENDAR
VERSION:2.0
PRODID:-//MoreDirt v1.0//EN
BEGIN:VEVENT
DTSTAMP:20150730T130000Z
ORGANIZER;CN=Alf Jones Cycles:MAILTO:
STATUS:CONFIRMED
UID:MORESPORTSNETWORK3654
DTSTART:20190615T080000Z
DTEND:20190615T120000Z
SUMMARY:Juliana Summer Ride Out
DESCRIPTION:Juliana Summer Ride Out - more details: https://www.moredirt.com/event/3654
X-ALT-DESC;FMTTYPE=text/html:Juliana Summer Ride Out - more details: https://www.moredirt.com/event/3654
LOCATION:
END:VEVENT
END:VCALENDAR