BEGIN:VCALENDAR
VERSION:2.0
PRODID:-//MoreDirt v1.0//EN
BEGIN:VEVENT
DTSTAMP:20150730T130000Z
ORGANIZER;CN=Kings Lynn MTB:MAILTO:
STATUS:CONFIRMED
UID:MORESPORTSNETWORK3636
DTSTART:20190518T080000Z
DTEND:20190518T120000Z
SUMMARY:Kings Lynn MTB Time Trials 2019 - Round 2
DESCRIPTION:Kings Lynn MTB Time Trials 2019 - Round 2 - more details: https://www.moredirt.com/event/3636
X-ALT-DESC;FMTTYPE=text/html:Kings Lynn MTB Time Trials 2019 - Round 2 - more details: https://www.moredirt.com/event/3636
LOCATION:
END:VEVENT
END:VCALENDAR