BEGIN:VCALENDAR
VERSION:2.0
PRODID:-//MoreDirt v1.0//EN
BEGIN:VEVENT
DTSTAMP:20150730T130000Z
ORGANIZER;CN=BRINK.UK:MAILTO:
STATUS:CONFIRMED
UID:MORESPORTSNETWORK3625
DTSTART:20190706T080000Z
DTEND:20190706T120000Z
SUMMARY:Yeti Bikes Demo Weekend
DESCRIPTION:Yeti Bikes Demo Weekend - more details: https://www.moredirt.com/event/3625
X-ALT-DESC;FMTTYPE=text/html:Yeti Bikes Demo Weekend - more details: https://www.moredirt.com/event/3625
LOCATION:
END:VEVENT
END:VCALENDAR