BEGIN:VCALENDAR
VERSION:2.0
PRODID:-//MoreDirt v1.0//EN
BEGIN:VEVENT
DTSTAMP:20150730T130000Z
ORGANIZER;CN=Pedal Heaven:MAILTO:
STATUS:CONFIRMED
UID:MORESPORTSNETWORK3622
DTSTART:20190526T080000Z
DTEND:20190526T120000Z
SUMMARY:Pedal Heaven Demo Day
DESCRIPTION:Pedal Heaven Demo Day - more details: https://www.moredirt.com/event/3622
X-ALT-DESC;FMTTYPE=text/html:Pedal Heaven Demo Day - more details: https://www.moredirt.com/event/3622
LOCATION:
END:VEVENT
END:VCALENDAR