BEGIN:VCALENDAR
VERSION:2.0
PRODID:-//MoreDirt v1.0//EN
BEGIN:VEVENT
DTSTAMP:20150730T130000Z
ORGANIZER;CN=York Fire Rescue Inc:MAILTO:
STATUS:CONFIRMED
UID:MORESPORTSNETWORK3620
DTSTART:20190824T080000Z
DTEND:20190824T120000Z
SUMMARY:York 38 Special
DESCRIPTION:York 38 Special - more details: https://www.moredirt.com/event/3620
X-ALT-DESC;FMTTYPE=text/html:York 38 Special - more details: https://www.moredirt.com/event/3620
LOCATION:
END:VEVENT
END:VCALENDAR