BEGIN:VCALENDAR
VERSION:2.0
PRODID:-//MoreDirt v1.0//EN
BEGIN:VEVENT
DTSTAMP:20150730T130000Z
ORGANIZER;CN=:MAILTO:
STATUS:CONFIRMED
UID:MORESPORTSNETWORK3619
DTSTART:20190824T080000Z
DTEND:20190824T120000Z
SUMMARY:The Naughty Frontier
DESCRIPTION:The Naughty Frontier - more details: https://www.moredirt.com/event/3619
X-ALT-DESC;FMTTYPE=text/html:The Naughty Frontier - more details: https://www.moredirt.com/event/3619
LOCATION:
END:VEVENT
END:VCALENDAR