BEGIN:VCALENDAR
VERSION:2.0
PRODID:-//MoreDirt v1.0//EN
BEGIN:VEVENT
DTSTAMP:20150730T130000Z
ORGANIZER;CN=Manx MTB Enduro:MAILTO:
STATUS:CONFIRMED
UID:MORESPORTSNETWORK3618
DTSTART:20190720T080000Z
DTEND:20190721T120000Z
SUMMARY:The PokerStars 2 Day Enduro
DESCRIPTION:The PokerStars 2 Day Enduro - more details: https://www.moredirt.com/event/3618
X-ALT-DESC;FMTTYPE=text/html:The PokerStars 2 Day Enduro - more details: https://www.moredirt.com/event/3618
LOCATION:
END:VEVENT
END:VCALENDAR