BEGIN:VCALENDAR
VERSION:2.0
PRODID:-//MoreDirt v1.0//EN
BEGIN:VEVENT
DTSTAMP:20150730T130000Z
ORGANIZER;CN=Steel Valley Project:MAILTO:
STATUS:CONFIRMED
UID:MORESPORTSNETWORK3612
DTSTART:20190720T080000Z
DTEND:20190720T120000Z
SUMMARY:Steel Valley Ride
DESCRIPTION:Steel Valley Ride - more details: https://www.moredirt.com/event/3612
X-ALT-DESC;FMTTYPE=text/html:Steel Valley Ride - more details: https://www.moredirt.com/event/3612
LOCATION:
END:VEVENT
END:VCALENDAR