BEGIN:VCALENDAR
VERSION:2.0
PRODID:-//MoreDirt v1.0//EN
BEGIN:VEVENT
DTSTAMP:20150730T130000Z
ORGANIZER;CN=Start Fitness:MAILTO:
STATUS:CONFIRMED
UID:MORESPORTSNETWORK3611
DTSTART:20190504T080000Z
DTEND:20190504T120000Z
SUMMARY:Demo Day: Orange Bikes and Ibis Cycles
DESCRIPTION:Demo Day: Orange Bikes and Ibis Cycles - more details: https://www.moredirt.com/event/3611
X-ALT-DESC;FMTTYPE=text/html:Demo Day: Orange Bikes and Ibis Cycles - more details: https://www.moredirt.com/event/3611
LOCATION:
END:VEVENT
END:VCALENDAR