BEGIN:VCALENDAR
VERSION:2.0
PRODID:-//MoreDirt v1.0//EN
BEGIN:VEVENT
DTSTAMP:20150730T130000Z
ORGANIZER;CN=Pedal Power:MAILTO:
STATUS:CONFIRMED
UID:MORESPORTSNETWORK3607
DTSTART:20190414T080000Z
DTEND:20190414T120000Z
SUMMARY:Pedal Power Festival of Bike
DESCRIPTION:Pedal Power Festival of Bike - more details: https://www.moredirt.com/event/3607
X-ALT-DESC;FMTTYPE=text/html:Pedal Power Festival of Bike - more details: https://www.moredirt.com/event/3607
LOCATION:
END:VEVENT
END:VCALENDAR