BEGIN:VCALENDAR
VERSION:2.0
PRODID:-//MoreDirt v1.0//EN
BEGIN:VEVENT
DTSTAMP:20150730T130000Z
ORGANIZER;CN=Shred Events:MAILTO:
STATUS:CONFIRMED
UID:MORESPORTSNETWORK35
DTSTART:20110807T080000Z
DTEND:20110807T120000Z
SUMMARY:RaceFace Circus Of Dirt RD4
DESCRIPTION:RaceFace Circus Of Dirt RD4 - more details: https://www.moredirt.com/event/35
X-ALT-DESC;FMTTYPE=text/html:RaceFace Circus Of Dirt RD4 - more details: https://www.moredirt.com/event/35
LOCATION:
END:VEVENT
END:VCALENDAR