BEGIN:VCALENDAR
VERSION:2.0
PRODID:-//MoreDirt v1.0//EN
BEGIN:VEVENT
DTSTAMP:20150730T130000Z
ORGANIZER;CN=Intense Cycles:MAILTO:
STATUS:CONFIRMED
UID:MORESPORTSNETWORK3595
DTSTART:20190727T080000Z
DTEND:20190727T120000Z
SUMMARY:Intense Cycles Demo Day - Cannock Chase
DESCRIPTION:Intense Cycles Demo Day - Cannock Chase - more details: https://www.moredirt.com/event/3595
X-ALT-DESC;FMTTYPE=text/html:Intense Cycles Demo Day - Cannock Chase - more details: https://www.moredirt.com/event/3595
LOCATION:
END:VEVENT
END:VCALENDAR