BEGIN:VCALENDAR
VERSION:2.0
PRODID:-//MoreDirt v1.0//EN
BEGIN:VEVENT
DTSTAMP:20150730T130000Z
ORGANIZER;CN=Intense Cycles:MAILTO:
STATUS:CONFIRMED
UID:MORESPORTSNETWORK3594
DTSTART:20190330T080000+0000
DTEND:20190330T120000+0000
SUMMARY:Intense Cycles Demo Day -  Forest of Dean
DESCRIPTION:Intense Cycles Demo Day -  Forest of Dean - more details: https://www.moredirt.com/event/3594
X-ALT-DESC;FMTTYPE=text/html:Intense Cycles Demo Day -  Forest of Dean - more details: https://www.moredirt.com/event/3594
LOCATION:
END:VEVENT
END:VCALENDAR