BEGIN:VCALENDAR
VERSION:2.0
PRODID:-//MoreDirt v1.0//EN
BEGIN:VEVENT
DTSTAMP:20150730T130000Z
ORGANIZER;CN=Start Fitness:MAILTO:
STATUS:CONFIRMED
UID:MORESPORTSNETWORK3593
DTSTART:20190330T080000+0000
DTEND:20190330T120000+0000
SUMMARY:Demo Day: Santa Cruz, Juliana and Yeti Cycles
DESCRIPTION:Demo Day: Santa Cruz, Juliana and Yeti Cycles - more details: https://www.moredirt.com/event/3593
X-ALT-DESC;FMTTYPE=text/html:Demo Day: Santa Cruz, Juliana and Yeti Cycles - more details: https://www.moredirt.com/event/3593
LOCATION:
END:VEVENT
END:VCALENDAR