BEGIN:VCALENDAR
VERSION:2.0
PRODID:-//MoreDirt v1.0//EN
BEGIN:VEVENT
DTSTAMP:20150730T130000Z
ORGANIZER;CN=Cyclewise:MAILTO:
STATUS:CONFIRMED
UID:MORESPORTSNETWORK3586
DTSTART:20190518T080000Z
DTEND:20190519T120000Z
SUMMARY:MTB & E-Mtb Demo Weekend at Cyclewise Whinlatter
DESCRIPTION:MTB & E-Mtb Demo Weekend at Cyclewise Whinlatter - more details: https://www.moredirt.com/event/3586
X-ALT-DESC;FMTTYPE=text/html:MTB & E-Mtb Demo Weekend at Cyclewise Whinlatter - more details: https://www.moredirt.com/event/3586
LOCATION:
END:VEVENT
END:VCALENDAR