BEGIN:VCALENDAR
VERSION:2.0
PRODID:-//MoreDirt v1.0//EN
BEGIN:VEVENT
DTSTAMP:20150730T130000Z
ORGANIZER;CN=Infinity Cycles:MAILTO:
STATUS:CONFIRMED
UID:MORESPORTSNETWORK3584
DTSTART:20190407T080000Z
DTEND:20190407T120000Z
SUMMARY:Infinity Cycles Big Birthday Bike Bash - Mountain and E- MTB Demo
DESCRIPTION:Infinity Cycles Big Birthday Bike Bash - Mountain and E- MTB Demo - more details: https://www.moredirt.com/event/3584
X-ALT-DESC;FMTTYPE=text/html:Infinity Cycles Big Birthday Bike Bash - Mountain and E- MTB Demo - more details: https://www.moredirt.com/event/3584
LOCATION:
END:VEVENT
END:VCALENDAR