BEGIN:VCALENDAR
VERSION:2.0
PRODID:-//MoreDirt v1.0//EN
BEGIN:VEVENT
DTSTAMP:20150730T130000Z
ORGANIZER;CN=Specialized:MAILTO:
STATUS:CONFIRMED
UID:MORESPORTSNETWORK3568
DTSTART:20190309T080000+0000
DTEND:20190309T120000+0000
SUMMARY:Soil Searching Dig Day - Hamsterley Forest
DESCRIPTION:Soil Searching Dig Day - Hamsterley Forest - more details: https://www.moredirt.com/event/3568
X-ALT-DESC;FMTTYPE=text/html:Soil Searching Dig Day - Hamsterley Forest - more details: https://www.moredirt.com/event/3568
LOCATION:
END:VEVENT
END:VCALENDAR