BEGIN:VCALENDAR
VERSION:2.0
PRODID:-//MoreDirt v1.0//EN
BEGIN:VEVENT
DTSTAMP:20150730T130000Z
ORGANIZER;CN=INNEVENTO Sports:MAILTO:
STATUS:CONFIRMED
UID:MORESPORTSNETWORK3566
DTSTART:20190413T080000Z
DTEND:20190413T120000Z
SUMMARY:Bilbao Downhill 2019
DESCRIPTION:Bilbao Downhill 2019 - more details: https://www.moredirt.com/event/3566
X-ALT-DESC;FMTTYPE=text/html:Bilbao Downhill 2019 - more details: https://www.moredirt.com/event/3566
LOCATION:
END:VEVENT
END:VCALENDAR