BEGIN:VCALENDAR
VERSION:2.0
PRODID:-//MoreDirt v1.0//EN
BEGIN:VEVENT
DTSTAMP:20150730T130000Z
ORGANIZER;CN=Southampton Bike Park:MAILTO:
STATUS:CONFIRMED
UID:MORESPORTSNETWORK3561
DTSTART:20190529T080000Z
DTEND:20190529T120000Z
SUMMARY:Southampton Bike Park Dual Series 2019 - RD1
DESCRIPTION:Southampton Bike Park Dual Series 2019 - RD1 - more details: https://www.moredirt.com/event/3561
X-ALT-DESC;FMTTYPE=text/html:Southampton Bike Park Dual Series 2019 - RD1 - more details: https://www.moredirt.com/event/3561
LOCATION:
END:VEVENT
END:VCALENDAR