BEGIN:VCALENDAR
VERSION:2.0
PRODID:-//MoreDirt v1.0//EN
BEGIN:VEVENT
DTSTAMP:20150730T130000Z
ORGANIZER;CN=Steel Is Real MTB:MAILTO:
STATUS:CONFIRMED
UID:MORESPORTSNETWORK3557
DTSTART:20191005T080000Z
DTEND:20191005T120000Z
SUMMARY:Steel is Real Demo Day
DESCRIPTION:Steel is Real Demo Day - more details: https://www.moredirt.com/event/3557
X-ALT-DESC;FMTTYPE=text/html:Steel is Real Demo Day - more details: https://www.moredirt.com/event/3557
LOCATION:
END:VEVENT
END:VCALENDAR