BEGIN:VCALENDAR
VERSION:2.0
PRODID:-//MoreDirt v1.0//EN
BEGIN:VEVENT
DTSTAMP:20150730T130000Z
ORGANIZER;CN=Hospiscare:MAILTO:
STATUS:CONFIRMED
UID:MORESPORTSNETWORK3516
DTSTART:20190914T080000Z
DTEND:20190914T120000Z
SUMMARY:Wild Tri & Wild Tri Extereme
DESCRIPTION:Wild Tri & Wild Tri Extereme - more details: https://www.moredirt.com/event/3516
X-ALT-DESC;FMTTYPE=text/html:Wild Tri & Wild Tri Extereme - more details: https://www.moredirt.com/event/3516
LOCATION:
END:VEVENT
END:VCALENDAR