BEGIN:VCALENDAR
VERSION:2.0
PRODID:-//MoreDirt v1.0//EN
BEGIN:VEVENT
DTSTAMP:20150730T130000Z
ORGANIZER;CN=Primera Sports:MAILTO:
STATUS:CONFIRMED
UID:MORESPORTSNETWORK3501
DTSTART:20190407T080000Z
DTEND:20190407T120000Z
SUMMARY:Primera Sports Mountain Bike Demo Day
DESCRIPTION:Primera Sports Mountain Bike Demo Day - more details: https://www.moredirt.com/event/3501
X-ALT-DESC;FMTTYPE=text/html:Primera Sports Mountain Bike Demo Day - more details: https://www.moredirt.com/event/3501
LOCATION:
END:VEVENT
END:VCALENDAR