BEGIN:VCALENDAR
VERSION:2.0
PRODID:-//MoreDirt v1.0//EN
BEGIN:VEVENT
DTSTAMP:20150730T130000Z
ORGANIZER;CN=Bikeology:MAILTO:
STATUS:CONFIRMED
UID:MORESPORTSNETWORK3500
DTSTART:20190303T080000+0000
DTEND:20190303T120000+0000
SUMMARY:Orbea and Giant MTB Demo Day
DESCRIPTION:Orbea and Giant MTB Demo Day - more details: https://www.moredirt.com/event/3500
X-ALT-DESC;FMTTYPE=text/html:Orbea and Giant MTB Demo Day - more details: https://www.moredirt.com/event/3500
LOCATION:
END:VEVENT
END:VCALENDAR