BEGIN:VCALENDAR
VERSION:2.0
PRODID:-//MoreDirt v1.0//EN
BEGIN:VEVENT
DTSTAMP:20150730T130000Z
ORGANIZER;CN=Mountain Mania Cycles:MAILTO:
STATUS:CONFIRMED
UID:MORESPORTSNETWORK3486
DTSTART:20190317T080000+0000
DTEND:20190317T120000+0000
SUMMARY:Mountain Mania Cycles Demo Day
DESCRIPTION:Mountain Mania Cycles Demo Day - more details: https://www.moredirt.com/event/3486
X-ALT-DESC;FMTTYPE=text/html:Mountain Mania Cycles Demo Day - more details: https://www.moredirt.com/event/3486
LOCATION:
END:VEVENT
END:VCALENDAR